BEGIN:VCALENDAR
VERSION:2.0
PRODID:icalendar-ruby
CALSCALE:GREGORIAN
METHOD:PUBLISH
BEGIN:VEVENT
DTSTAMP:20260423T152734Z
UID:34-254683@ststephens.tithelysetup4.com
DTSTART:20260923T210000Z
DTEND:20260923T230000Z
CLASS:PUBLIC
CREATED:20260423T094034
DESCRIPTION:
LAST-MODIFIED:20260423T094034
LOCATION:
SUMMARY:Food Pantry
URL;VALUE=URI:https://ststephens.tithelysetup4.com/events/food-pantry/2026-
 09-23
END:VEVENT
END:VCALENDAR
