BEGIN:VCALENDAR
VERSION:2.0
PRODID:icalendar-ruby
CALSCALE:GREGORIAN
METHOD:PUBLISH
BEGIN:VEVENT
DTSTAMP:20260423T182226Z
UID:34-254879@ststephens.tithelysetup4.com
DTSTART:20261007T210000Z
DTEND:20261007T230000Z
CLASS:PUBLIC
CREATED:20260423T123342
DESCRIPTION:
LAST-MODIFIED:20260423T123342
LOCATION:
SUMMARY:Food Pantry
URL;VALUE=URI:https://ststephens.tithelysetup4.com/events/food-pantry/2026-
 10-07
END:VEVENT
END:VCALENDAR
