BEGIN:VCALENDAR
VERSION:2.0
PRODID:icalendar-ruby
CALSCALE:GREGORIAN
METHOD:PUBLISH
BEGIN:VEVENT
DTSTAMP:20260423T194437Z
UID:34-255074@ststephens.tithelysetup4.com
DTSTART:20261014T210000Z
DTEND:20261014T230000Z
CLASS:PUBLIC
CREATED:20260423T153045
DESCRIPTION:
LAST-MODIFIED:20260423T153045
LOCATION:
SUMMARY:Food Pantry
URL;VALUE=URI:https://ststephens.tithelysetup4.com/events/food-pantry/2026-
 10-14
END:VEVENT
END:VCALENDAR
