BEGIN:VCALENDAR
VERSION:2.0
PRODID:icalendar-ruby
CALSCALE:GREGORIAN
METHOD:PUBLISH
BEGIN:VEVENT
DTSTAMP:20260423T225510Z
UID:34-255270@ststephens.tithelysetup4.com
DTSTART:20261028T210000Z
DTEND:20261028T230000Z
CLASS:PUBLIC
CREATED:20260423T182458
DESCRIPTION:
LAST-MODIFIED:20260423T182458
LOCATION:
SUMMARY:Food Pantry
URL;VALUE=URI:https://ststephens.tithelysetup4.com/events/food-pantry/2026-
 10-28
END:VEVENT
END:VCALENDAR
