BEGIN:VCALENDAR
VERSION:2.0
PRODID:icalendar-ruby
CALSCALE:GREGORIAN
METHOD:PUBLISH
BEGIN:VEVENT
DTSTAMP:20260424T003411Z
UID:34-255271@ststephens.tithelysetup4.com
DTSTART:20261104T220000Z
DTEND:20261105T000000Z
CLASS:PUBLIC
CREATED:20260423T182458
DESCRIPTION:
LAST-MODIFIED:20260423T182458
LOCATION:
SUMMARY:Food Pantry
URL;VALUE=URI:https://ststephens.tithelysetup4.com/events/food-pantry/2026-
 11-04
END:VEVENT
END:VCALENDAR
